BEGIN:VCALENDAR
VERSION:2.0
PRODID:-//Intand Corporation//Tandem//EN
METHOD:PUBLISH
BEGIN:VEVENT
DTSTAMP:20260425T165014Z
DTSTART:20260929T010000Z
DTEND:20260929T020000Z
TRANSP:TRANSPARENT
PRIORITY:0
SUMMARY:MVMS Parent Meeting for 2027 DC Trip
LOCATION:MV Commons/Cafeteria\, MV Gym  Small
DESCRIPTION:Parent planning meeting for July 28-August 1\, 2027 trip to Wa
 shington\, DC. Anne Pedelaborde reqeusted this date.\n\n\nGroups:\nMVMS Gr
 ade 7\nMVMS Grade 8\nMVMS Parents\nMVMS Staff\n\nSchools:\nMountain View M
 iddle School\n\nLocations:\nMV Commons/Cafeteria\nMV Gym  Small\n\nContact
 s:\nAnne Pedelaborde\n\n
URL;VALUE=URI:https://bremertondist100.tandem.co/index.php?type=view&actio
 n=event&id=339467
CREATED:20260421T204525Z
LAST-MODIFIED:20260421T204539Z
UID:event-339467-bremertondist100@intand.com
END:VEVENT
END:VCALENDAR
