BEGIN:VCALENDAR
VERSION:2.0
PRODID:-//Intand Corporation//Tandem//EN
METHOD:PUBLISH
BEGIN:VEVENT
DTSTAMP:20260425T133252Z
DTSTART:20260426T170000Z
DTEND:20260427T000000Z
TRANSP:TRANSPARENT
PRIORITY:0
SUMMARY:NP Fastpitch - Vashon Friendly
LOCATION:Ostrander Field\, VR
DESCRIPTION:10U / 12U friendly scrimmage vs Vashon fastpitch.\n\n\nGroups:
 \nPee Wees\, North Perry Assn.- Softball\n\nSchools:\nView Ridge Elementar
 y\n\nLocation:\nOstrander Field\, VR\n\n
URL;VALUE=URI:https://bremertondist100.tandem.co/index.php?type=view&actio
 n=event&id=339416
CREATED:20260417T164500Z
LAST-MODIFIED:20260423T162157Z
UID:facility_rental-339416-bremertondist100@intand.com
END:VEVENT
END:VCALENDAR
