BEGIN:VCALENDAR
VERSION:2.0
PRODID:-//Intand Corporation//Tandem//EN
METHOD:PUBLISH
BEGIN:VEVENT
DTSTAMP:20260425T165014Z
DTSTART:20260615T170000Z
DTEND:20260615T200000Z
TRANSP:TRANSPARENT
PRIORITY:0
SUMMARY:MVMS 7th Grade Field Trip to Admiral Theatre
LOCATION:Admiral Theatre\, Evergreen Park
DESCRIPTION:The 7th grade class (approx 15 adults and 293 students) will t
 ravel to the Admiral Theatre in downtown Bremerton for a year-end movie ev
 ent.  The time is approximate and will be reduced soon.  Number of adults/
 students is approximate at this time.\n\n\nDepart: 9:30 am\nReturn: 1:30 p
 m\n\nGroups:\nMVMS Grade 7\nMVMS Staff\n\nSchools:\nMountain View Middle S
 chool\n\nLocations:\nAdmiral Theatre\nEvergreen Park\n\n
URL;VALUE=URI:https://bremertondist100.tandem.co/index.php?type=view&actio
 n=event&id=339370
CREATED:20260416T184315Z
LAST-MODIFIED:20260416T220922Z
UID:event-339370-bremertondist100@intand.com
END:VEVENT
END:VCALENDAR
