BEGIN:VCALENDAR
VERSION:2.0
PRODID:-//Intand Corporation//Tandem//EN
METHOD:PUBLISH
BEGIN:VEVENT
DTSTAMP:20260425T164046Z
DTSTART:20260602T220000Z
DTEND:20260603T000000Z
TRANSP:TRANSPARENT
PRIORITY:0
SUMMARY:Talent Show Dress Rehearsal
LOCATION:MV Choir Room - special permission\, MV Commons/Cafeteria
DESCRIPTION:Groups:\nMVMS Drama\n\nSchools:\nMountain View Middle School\n
 \nLocations:\nMV Choir Room - special permission\nMV Commons/Cafeteria\n\n
URL;VALUE=URI:https://bremertondist100.tandem.co/index.php?type=view&actio
 n=event&id=339306
CREATED:20260415T170434Z
LAST-MODIFIED:20260415T183204Z
UID:event_request-339306-bremertondist100@intand.com
END:VEVENT
END:VCALENDAR
