BEGIN:VCALENDAR
VERSION:2.0
PRODID:-//Intand Corporation//Tandem//EN
METHOD:PUBLISH
BEGIN:VEVENT
DTSTAMP:20260425T133253Z
DTSTART:20260423T003000Z
DTEND:20260423T033000Z
TRANSP:TRANSPARENT
PRIORITY:0
SUMMARY:KAFC Training
LOCATION:MV Turf Field 2 (Multi-Use)
DESCRIPTION:Groups:\nKitsap Alliance FC (Formerly WestSound)\n\nSchools:\n
 Mountain View Middle School\n\nLocation:\nMV Turf Field 2 (Multi-Use)\n\n
URL;VALUE=URI:https://bremertondist100.tandem.co/index.php?type=view&actio
 n=event&id=339254
CREATED:20260414T232743Z
LAST-MODIFIED:20260415T164447Z
UID:facility_rental-339254-bremertondist100@intand.com
END:VEVENT
END:VCALENDAR
