BEGIN:VCALENDAR
VERSION:2.0
PRODID:-//Intand Corporation//Tandem//EN
METHOD:PUBLISH
BEGIN:VEVENT
DTSTAMP:20260425T133537Z
DTSTART:20260330T230000Z
DTEND:20260331T010000Z
TRANSP:TRANSPARENT
PRIORITY:0
SUMMARY:SEIU (BHS Commons/multimedia)
LOCATION:BHS Commons/Multi-Media Room
DESCRIPTION:Groups:\nBSD SEIU\n\nSchools:\nAdministration Building\nBremer
 ton High School\n\nLocation:\nBHS Commons/Multi-Media Room\n\n
URL;VALUE=URI:https://bremertondist100.tandem.co/index.php?type=view&actio
 n=event&id=337912
CREATED:20260304T210042Z
LAST-MODIFIED:20260304T210432Z
UID:event_request-337912-bremertondist100@intand.com
END:VEVENT
END:VCALENDAR
