BEGIN:VCALENDAR
VERSION:2.0
PRODID:-//Intand Corporation//Tandem//EN
METHOD:PUBLISH
BEGIN:VEVENT
DTSTAMP:20260425T133411Z
DTSTART:20260430T230000Z
DTEND:20260501T003000Z
TRANSP:TRANSPARENT
PRIORITY:0
SUMMARY:BHS Fastpitch V vs Kent-Meridan High School (away)
LOCATION:Kent Meridian High School
DESCRIPTION:Depart: 1:30 pm\nReturn: 7:00 pm\n\nGroups:\nBHS Athletics\nBH
 S Fastpitch VAR\n\nSchools:\nBremerton High School\nKent Meridian High Sch
 ool\n\nLocation:\nKent Meridian High School\n\n
URL;VALUE=URI:https://bremertondist100.tandem.co/index.php?type=view&actio
 n=event&id=337658
CREATED:20260302T215545Z
LAST-MODIFIED:20260401T145321Z
UID:event-337658-bremertondist100@intand.com
END:VEVENT
END:VCALENDAR
