BEGIN:VCALENDAR
VERSION:2.0
PRODID:-//Intand Corporation//Tandem//EN
METHOD:PUBLISH
BEGIN:VEVENT
DTSTAMP:20260425T133418Z
DTSTART:20260330T223000Z
DTEND:20260331T013000Z
TRANSP:TRANSPARENT
PRIORITY:0
SUMMARY:BHS Tennis: Girls VAR vs Olmypic HS (home)
LOCATION:BHS Tennis Courts
DESCRIPTION:VAR @ 3:30\n\n\nGroups:\nBHS Tennis Girls Varsity (Away)\nBHS 
 Athletics (Home)\n\nSchools:\nBremerton High School (Home)\n\nLocation:\nB
 HS Tennis Courts\n\n
X-ALT-DESC;FMTTYPE=text/html:<!doctype html><html><body><strong>VAR @ 3:30
 </strong><br /><br />Groups:<br />BHS Tennis Girls Varsity (Away)<br />BHS
  Athletics (Home)<br /><br />Schools:<br />Bremerton High School (Home)<br
  /><br />Location:<br />BHS Tennis Courts<br /></body></html>
URL;VALUE=URI:https://bremertondist100.tandem.co/index.php?type=view&actio
 n=event&id=337449
CREATED:20260226T232253Z
LAST-MODIFIED:20260226T232253Z
UID:event-337449-bremertondist100@intand.com
END:VEVENT
END:VCALENDAR
