BEGIN:VCALENDAR
VERSION:2.0
PRODID:-//Intand Corporation//Tandem//EN
METHOD:PUBLISH
BEGIN:VEVENT
DTSTAMP:20260425T164005Z
DTSTART:20260506T230000Z
DTEND:20260507T000000Z
TRANSP:TRANSPARENT
PRIORITY:0
SUMMARY:MVMS Cross Country Meet VS. Curtis and Woodward
LOCATION:MV Track
DESCRIPTION:Groups:\nMVMS Cross Country JV\nMVMS Cross Country Varsity\n\n
 Schools:\nMountain View Middle School\n\nLocation:\nMV Track\n\n
URL;VALUE=URI:https://bremertondist100.tandem.co/index.php?type=view&actio
 n=event&id=336972
CREATED:20260219T191228Z
LAST-MODIFIED:20260305T153518Z
UID:event-336972-bremertondist100@intand.com
END:VEVENT
END:VCALENDAR
