BEGIN:VCALENDAR
VERSION:2.0
PRODID:-//Intand Corporation//Tandem//EN
METHOD:PUBLISH
BEGIN:VEVENT
DTSTAMP:20260425T133654Z
DTSTART:20260329T150000Z
DTEND:20260330T033000Z
TRANSP:TRANSPARENT
PRIORITY:0
SUMMARY:NP Fastpitch - Jamboree
LOCATION:EBC small Multi-Use Grass Field  (old East High)\, Ostrander Fiel
 d\, VR\, EBC Fast Pitch Field (Lady Knights)
DESCRIPTION:NP Fastpitch is hosting a league wide (KPYFC) jamboree to kick
  off our season.\n\n\nGroups:\nPee Wees\, North Perry Assn.- Softball\n\nS
 chools:\nEast Bremerton Community Gym Site\nView Ridge Elementary\n\nLocat
 ions:\nEBC small Multi-Use Grass Field  (old East High)\nOstrander Field\,
  VR\nEBC Fast Pitch Field (Lady Knights)\n\n
URL;VALUE=URI:https://bremertondist100.tandem.co/index.php?type=view&actio
 n=event&id=336866
CREATED:20260218T165222Z
LAST-MODIFIED:20260225T063932Z
UID:facility_rental-336866-bremertondist100@intand.com
END:VEVENT
END:VCALENDAR
