BEGIN:VCALENDAR
VERSION:2.0
PRODID:-//Intand Corporation//Tandem//EN
METHOD:PUBLISH
BEGIN:VEVENT
DTSTAMP:20260425T133701Z
DTSTART:20260330T170000Z
DTEND:20260330T190000Z
TRANSP:TRANSPARENT
PRIORITY:0
SUMMARY:CH- 3rd Grade Field trip Clear Creek release Salmon
LOCATION:Silverdale Skate Park
DESCRIPTION:CH 3rd Graders to release salmon they raised. \n\n\nGroups:\nC
 rownhill Grade 3\n\nSchools:\nCrownhill Elementary\n\nLocation:\nSilverdal
 e Skate Park\n\n
URL;VALUE=URI:https://bremertondist100.tandem.co/index.php?type=view&actio
 n=event&id=336714
CREATED:20260217T211356Z
LAST-MODIFIED:20260217T211356Z
UID:event-336714-bremertondist100@intand.com
END:VEVENT
END:VCALENDAR
