BEGIN:VCALENDAR
VERSION:2.0
PRODID:-//Intand Corporation//Tandem//EN
METHOD:PUBLISH
BEGIN:VEVENT
DTSTAMP:20260425T133538Z
DTSTART:20260329T163000Z
DTEND:20260329T230000Z
TRANSP:TRANSPARENT
PRIORITY:0
SUMMARY:Todos Santos Soccer BHS
LOCATION:BHS Memorial Stadium (Turf)
DESCRIPTION:Groups:\nLiga Todos Santos Soccer League\n\nSchools:\nBremerto
 n High School\n\nLocation:\nBHS Memorial Stadium (Turf)\n\n
URL;VALUE=URI:https://bremertondist100.tandem.co/index.php?type=view&actio
 n=event&id=336673
CREATED:20260213T223426Z
LAST-MODIFIED:20260304T195701Z
UID:facility_rental-336673-bremertondist100@intand.com
END:VEVENT
END:VCALENDAR
