BEGIN:VCALENDAR
VERSION:2.0
PRODID:-//Intand Corporation//Tandem//EN
METHOD:PUBLISH
BEGIN:VEVENT
DTSTAMP:20260425T133659Z
DTSTART:20260401T204500Z
DTEND:20260401T223000Z
TRANSP:TRANSPARENT
PRIORITY:0
SUMMARY:Kitsap Lake Good News Club on Wednesdays
LOCATION:KL Gym / Commons
DESCRIPTION:Ongoing Enrollment – Join the Fun Today!Good News Club: Exci
 ting stories and awesome games that help kids grow in kindness\, make grea
 t choices\, and build character while learning how to love\, live\, and th
 rive with friends.\n\n\nGroups:\nChild Evangelism Fellowship\n\nSchools:\n
 Kitsap Lake Elementary\n\nLocation:\nKL Gym / Commons\n\nWe've used the gy
 m in the past but can also use other space like a classroom\, etc.\n\n
X-ALT-DESC;FMTTYPE=text/html:<!doctype html><html><body><span data-start="
 86" data-end="130"><strong>Ongoing Enrollment</strong> – Join the Fun To
 day!</span><br data-start="130" data-end="133" /><strong><span data-start=
 "133" data-end="152">Good News Club:</span></strong><span> Exciting storie
 s and awesome games that help kids grow in kindness\, make great choices\,
  and build character while learning how to love\, live\, and thrive with f
 riends.</span><br /><br />Groups:<br />Child Evangelism Fellowship<br /><b
 r />Schools:<br />Kitsap Lake Elementary<br /><br />Location:<br />KL Gym 
 / Commons<br /><br />Notes:<br />We've used the gym in the past but can al
 so use other space like a classroom\, etc.<br /></body></html>
URL;VALUE=URI:https://bremertondist100.tandem.co/index.php?type=view&actio
 n=event&id=328727
CREATED:20250908T205728Z
LAST-MODIFIED:20260303T010620Z
UID:facility_rental-328727-bremertondist100@intand.com
END:VEVENT
END:VCALENDAR
